BEGIN:VCALENDAR
VERSION:2.0
BEGIN:VEVENT
DTSTART:20260704T190000
DTEND:20260414T020000
SUMMARY:Summerfestle der JB/LJ Längenfeld
LOCATION:Kegeltenne Längenfeld
DESCRIPTION:
PRIORITY:3
END:VEVENT
END:VCALENDAR
