BEGIN:VCALENDAR
VERSION:2.0
BEGIN:VEVENT
DTSTART:20260725T110000
DTEND:20260726T030000
SUMMARY:Möchfett Party 10.0 mit SoapSoccer Turnier
LOCATION:Feuerwehrhaus Liesfeld in Kundl
DESCRIPTION:
PRIORITY:3
END:VEVENT
END:VCALENDAR
