BEGIN:VCALENDAR
VERSION:2.0
BEGIN:VEVENT
DTSTART:20261226T200000
DTEND:20261227T040000
SUMMARY:Glühweinstandl mit Spendenaktion &amp; Wagnfete der JB/LJ Flaurling
LOCATION:Fußballplatz Flaurling (Hennenbichl)
DESCRIPTION:
PRIORITY:3
END:VEVENT
END:VCALENDAR
