BEGIN:VCALENDAR
VERSION:2.0
BEGIN:VEVENT
DTSTART:20261212T160000
DTEND:20261213T023000
SUMMARY:Christkindlmarkt der JB/LJ Flaurling
LOCATION:Rissgarten Flaurling
DESCRIPTION:
PRIORITY:3
END:VEVENT
END:VCALENDAR
