BEGIN:VCALENDAR
VERSION:2.0
BEGIN:VEVENT
DTSTART:20270110T083000
DTEND:20250217T133200
SUMMARY:Das Sicherheitspaket für die Berge - Lawinenkurs
LOCATION:Gerlossteinbahn, Hainzenberg
DESCRIPTION:
PRIORITY:3
END:VEVENT
END:VCALENDAR
