BEGIN:VCALENDAR
VERSION:2.0
BEGIN:VEVENT
DTSTART:20261024T190000
DTEND:20260303T104400
SUMMARY:Schnitzkurs von Osttiroler Lorfen
LOCATION:Bezirk Lienz
DESCRIPTION:
PRIORITY:3
END:VEVENT
END:VCALENDAR
