BEGIN:VCALENDAR
VERSION:2.0
BEGIN:VEVENT
DTSTART:20260701T193000
DTEND:20260302T130000
SUMMARY:Für das Grillen Feuer und Flamme
LOCATION:Bezirk Kitzbühel
DESCRIPTION:
PRIORITY:3
END:VEVENT
END:VCALENDAR
