BEGIN:VCALENDAR
VERSION:2.0
BEGIN:VEVENT
DTSTART:20260818T193000
DTEND:20260302T122300
SUMMARY:Teambuilding - Gemeinsam zum Erfolg
LOCATION:Bezirk Landeck
DESCRIPTION:
PRIORITY:3
END:VEVENT
END:VCALENDAR
