BEGIN:VCALENDAR
VERSION:2.0
BEGIN:VEVENT
DTSTART:20260728T193000
DTEND:20260728T223000
SUMMARY:Führungseffiziente Obleute - Lob, Kritik und Führungsstil richtig einsetzen
LOCATION:Bezirk Landeck
DESCRIPTION:
PRIORITY:3
END:VEVENT
END:VCALENDAR
