BEGIN:VCALENDAR
VERSION:2.0
BEGIN:VEVENT
DTSTART:20260827T193000
DTEND:20260827T000000
SUMMARY:Die Magie des Streits - Konfliktmanagement als Chance
LOCATION:Bezirk Landeck
DESCRIPTION:
PRIORITY:3
END:VEVENT
END:VCALENDAR
