BEGIN:VCALENDAR
VERSION:2.0
BEGIN:VEVENT
DTSTART:20261119T193000
DTEND:20261119T000000
SUMMARY:Dein Verein als Mitgliedermagnet - engagierte Mitglieder finden und motivieren
LOCATION:Bezirk Landeck
DESCRIPTION:
PRIORITY:3
END:VEVENT
END:VCALENDAR
