BEGIN:VCALENDAR
VERSION:2.0
BEGIN:VEVENT
DTSTART:20260828T200000
DTEND:20260830T000000
SUMMARY:50 Jahre Landjugend Angath - Jubiläumswochenende mit Fahnenweihe
LOCATION:Angath
DESCRIPTION:
PRIORITY:3
END:VEVENT
END:VCALENDAR
