BEGIN:VCALENDAR
VERSION:2.0
BEGIN:VEVENT
DTSTART:20261005T190000
DTEND:20260218T123500
SUMMARY:Webinarreihe Neuwahlen: Eine gelungene Veranstaltung!
LOCATION:online
DESCRIPTION:
PRIORITY:3
END:VEVENT
END:VCALENDAR
