BEGIN:VCALENDAR
VERSION:2.0
BEGIN:VEVENT
DTSTART:20260928T190000
DTEND:20260218T123500
SUMMARY:Webinarreihe Neuwahlen: Strukturierte Sitzungsführung &amp; Alles rund um die TJB/LJ
LOCATION:online
DESCRIPTION:
PRIORITY:3
END:VEVENT
END:VCALENDAR
