BEGIN:VCALENDAR
VERSION:2.0
BEGIN:VEVENT
DTSTART:20261025T200000
DTEND:20261026T020000
SUMMARY:Landjugendball Bruck am Ziller
LOCATION:Bruck am Ziller, Dorf 40a
DESCRIPTION:
PRIORITY:3
END:VEVENT
END:VCALENDAR
