BEGIN:VCALENDAR
VERSION:2.0
BEGIN:VEVENT
DTSTART:20260711T180000
DTEND:20260712T030000
SUMMARY:Dorffest der Landjugend Hainzenberg
LOCATION:Dörfl 360, 6278 Hainzenberg
DESCRIPTION:
PRIORITY:3
END:VEVENT
END:VCALENDAR
