BEGIN:VCALENDAR
VERSION:2.0
BEGIN:VEVENT
DTSTART:20261010T203000
DTEND:20261011T050000
SUMMARY:Jungbauernball Obernberg
LOCATION:Gemeindesaal Obernber
DESCRIPTION:
PRIORITY:3
END:VEVENT
END:VCALENDAR
