BEGIN:VCALENDAR
VERSION:2.0
BEGIN:VEVENT
DTSTART:20260628T150000
DTEND:20260628T210000
SUMMARY:Bezirks Andacht
LOCATION:Bezirksjungbauernkapelle am Rauschbrunnen, Innsbruck
DESCRIPTION:
PRIORITY:3
END:VEVENT
END:VCALENDAR
