BEGIN:VCALENDAR
VERSION:2.0
BEGIN:VEVENT
DTSTART:20260801T160000
DTEND:20260802T020000
SUMMARY:Seifenkistenrennen &amp; Sommernachtsfest der Landjugend Pettnau
LOCATION:Pettnau
DESCRIPTION:
PRIORITY:3
END:VEVENT
END:VCALENDAR
