BEGIN:VCALENDAR
VERSION:2.0
BEGIN:VEVENT
DTSTART:20261024T170000
DTEND:20261025T060000
SUMMARY:Bezirkslandjugendtag mit Neuwahlen der JB/LJ Bezirk Landeck
LOCATION:Wird bekannt gegeben
DESCRIPTION:
PRIORITY:3
END:VEVENT
END:VCALENDAR
