BEGIN:VCALENDAR
VERSION:2.0
BEGIN:VEVENT
DTSTART:20261023T200000
DTEND:20260110T091600
SUMMARY:Jungbauernball Wildermieming 
LOCATION:Gemeindezentrum Wildermieming
DESCRIPTION:
PRIORITY:3
END:VEVENT
END:VCALENDAR
