BEGIN:VCALENDAR
VERSION:2.0
BEGIN:VEVENT
DTSTART:20260802T120000
DTEND:20260802T200000
SUMMARY:Jahreshauptversammlung der JB/LJ Natters
LOCATION:Natters
DESCRIPTION:
PRIORITY:3
END:VEVENT
END:VCALENDAR
