BEGIN:VCALENDAR
VERSION:2.0
BEGIN:VEVENT
DTSTART:20261224T090000
DTEND:20261224T160000
SUMMARY:Friedenslichtverteilung der JB/LJ Natters
LOCATION:Natters
DESCRIPTION:
PRIORITY:3
END:VEVENT
END:VCALENDAR
