BEGIN:VCALENDAR
VERSION:2.0
BEGIN:VEVENT
DTSTART:20261224T230000
DTEND:20261224T140000
SUMMARY:Agape nach Mitternachtsmette der JB Natters
LOCATION:Natters
DESCRIPTION:
PRIORITY:3
END:VEVENT
END:VCALENDAR
