BEGIN:VCALENDAR
VERSION:2.0
BEGIN:VEVENT
DTSTART:20260905T203000
DTEND:20260906T040000
SUMMARY:Jungbauernball Polling
LOCATION:Polling in Tirol 17, 6404 Polling
DESCRIPTION:
PRIORITY:3
END:VEVENT
END:VCALENDAR
