BEGIN:VCALENDAR
VERSION:2.0
BEGIN:VEVENT
DTSTART:20260725T203000
DTEND:20260726T010000
SUMMARY:Gebietsfest | Gebiet Innsbruck Stadt
LOCATION:Wird noch bekannt gegeben
DESCRIPTION:
PRIORITY:3
END:VEVENT
END:VCALENDAR
